View In:
ArcGIS JavaScript
ArcGIS.com Map
Google Earth
ArcMap
View Footprint In:
ArcGIS.com Map
Service Description:
Name: orto_test
Description: orto_test
Single Fused Map Cache: false
Extent:
XMin: 246809.59984573172
YMin: 315639.2502293141
XMax: 283942.19983708614
YMax: 341974.45022318244
Spatial Reference: 2180
(2180)
Initial Extent:
XMin: 246809.59984573172
YMin: 315639.2502293141
XMax: 283942.19983708614
YMax: 341974.45022318244
Spatial Reference: 2180
(2180)
Full Extent:
XMin: 246809.59984573172
YMin: 315639.2502293141
XMax: 283942.19983708614
YMax: 341974.45022318244
Spatial Reference: 2180
(2180)
Time Info:
Start Time Field: Year
End Time Field: null
Time Extent:
[2000/01/01 00:00:00 UTC, 2012/01/01 00:00:00 UTC]
Time Reference:
N/A
Pixel Size X: 0.19999999995343404
Pixel Size Y: 0.19999999995343387
Band Count: 3
Pixel Type: U8
RasterFunction Infos: N/A
Mensuration Capabilities:
Has Histograms: false
Has Colormap: false
Min Scale: 0
Max Scale: 0
Copyright Text:
Service Data Type: esriImageServiceDataTypeRGB
Min Values: N/A
Max Values: N/A
Mean Values: N/A
Standard Deviation Values: N/A
Object ID Field: OBJECTID
Fields:
-
OBJECTID
(
type: esriFieldTypeOID
, alias: OBJECTID
)
-
Shape
(
type: esriFieldTypeGeometry
, alias: Shape
)
-
Name
(
type: esriFieldTypeString
, alias: Name
, length: 50
)
-
MinPS
(
type: esriFieldTypeDouble
, alias: MinPS
)
-
MaxPS
(
type: esriFieldTypeDouble
, alias: MaxPS
)
-
LowPS
(
type: esriFieldTypeDouble
, alias: LowPS
)
-
HighPS
(
type: esriFieldTypeDouble
, alias: HighPS
)
-
Category
(
type: esriFieldTypeInteger
, alias: Category
, Coded Values:
[0: Unknown]
, [1: Primary]
, [2: Overview]
, ...5 more...
)
-
Tag
(
type: esriFieldTypeString
, alias: Tag
, length: 20
)
-
GroupName
(
type: esriFieldTypeString
, alias: GroupName
, length: 50
)
-
ProductName
(
type: esriFieldTypeString
, alias: ProductName
, length: 50
)
-
CenterX
(
type: esriFieldTypeDouble
, alias: CenterX
)
-
CenterY
(
type: esriFieldTypeDouble
, alias: CenterY
)
-
ZOrder
(
type: esriFieldTypeInteger
, alias: ZOrder
)
-
Shape_Length
(
type: esriFieldTypeDouble
, alias: Shape_Length
)
-
Shape_Area
(
type: esriFieldTypeDouble
, alias: Shape_Area
)
Raster Attribute Table: false
Default Mosaic Method: Northwest
Allowed Mosaic Methods: NorthWest,Center,LockRaster,ByAttribute,Nadir,Viewpoint,Seamline,None
Allowed Compressions: N/A
SortField:
SortValue: null
Mosaic Operator: First
Default Compression Quality: 75
Default Resampling Method: Bilinear
Max Record Count: 1000
Max Image Height: 4100
Max Image Width: 15000
Max Download Image Count: 20
Max Mosaic Image Count: 20
Allow Raster Function: true
Raster Type Infos:
Name: Raster Dataset
Description: Supports all ArcGIS Raster Datasets
Help:
Has Raster Attribute Table: false
Edit Fields Info: null
Ownership Based AccessControl For Rasters: null
Child Resources:
Info
Key Properties
Legend
Supported Operations:
Export Image
Query
Identify
Compute Histograms
Get Samples
Compute Class Statistics